BEGIN:VCALENDAR
VERSION:2.0
PRODID:-//eventon.com NONSGML v1.0//EN
BEGIN:VEVENT
UID:69e61f2f4238a
DTSTAMP:20260420T144223
DTSTART:20250716T100000Z
DTEND:20250716T103000Z
LOCATION:
SUMMARY:Marktconcert
DESCRIPTION: Jeroen Pijpers\,  orgel
END:VEVENT
END:VCALENDAR