BEGIN:VCALENDAR
VERSION:2.0
PRODID:-//eventon.com NONSGML v1.0//EN
BEGIN:VEVENT
UID:69e6070d88214
DTSTAMP:20260420T125925
DTSTART:20250709T100000Z
DTEND:20250709T103000Z
LOCATION:
SUMMARY:Marktconcert
DESCRIPTION: Hanne Feldhaus\,  blokfluit & Wim Ruessink\,  orgel
END:VEVENT
END:VCALENDAR