BEGIN:VCALENDAR
VERSION:2.0
PRODID:-//eventon.com NONSGML v1.0//EN
BEGIN:VEVENT
UID:69e5ef854abce
DTSTAMP:20260420T111901
DTSTART:20250702T100000Z
DTEND:20250702T103000Z
LOCATION:
SUMMARY:Marktconcert
DESCRIPTION: Wim Ruessink\,  orgel
END:VEVENT
END:VCALENDAR