BEGIN:VCALENDAR
VERSION:2.0
PRODID:-//eventon.com NONSGML v1.0//EN
BEGIN:VEVENT
UID:69e608fdc794f
DTSTAMP:20260420T130741
DTSTART:20250724T120000Z
DTEND:20250823T120000Z
LOCATION:
SUMMARY:EXPOSITIES: IN VERBAND MET EEN INGRIJPENDE VERBOUWING VAN DE JACOBSKERK WORDEN ER VOOR ONBEPAALDE TIJD GEEN EXPOSITIES GEHOUDEN
DESCRIPTION: 
END:VEVENT
END:VCALENDAR