BEGIN:VCALENDAR
VERSION:2.0
PRODID:-//eventon.com NONSGML v1.0//EN
BEGIN:VEVENT
UID:69e549936f170
DTSTAMP:20260419T233059
DTSTART:20221010T120000Z
DTEND:20221017T140000Z
LOCATION:Jacobskerk Markt 2\,  7101 DB Winterswijk
SUMMARY:Expositie Ger en Riek Heesen
DESCRIPTION: Werk van Ger en Riek Heesen is als laatste expositie dit jaar in de Jacobskerk te zien. Zij schilderden vaak in de omgeving\,  de natuur in de buurtschappen en boerderijen. Een deel van dat werk is te zien van 7 oktober tot en met 4 november en is in bruikleen[..]
END:VEVENT
END:VCALENDAR