BEGIN:VCALENDAR
VERSION:2.0
PRODID:-//eventon.com NONSGML v1.0//EN
BEGIN:VEVENT
UID:69e54a2bd8e82
DTSTAMP:20260419T233331
DTSTART:20220909T120000Z
DTEND:20221007T140000Z
LOCATION:Jacobskerk Markt 2\,  7101 DB Winterswijk
SUMMARY:Expositie Frank Verheij - ‘Schilderkunst Abstract’
DESCRIPTION: Expositie Frank Verheij met ‘Schilderkunst Abstract
END:VEVENT
END:VCALENDAR