BEGIN:VCALENDAR
VERSION:2.0
PRODID:-//eventon.com NONSGML v1.0//EN
BEGIN:VEVENT
UID:69e5180acfd33
DTSTAMP:20260419T195938
DTSTART:20220812T070000Z
DTEND:20220909T140000Z
LOCATION:Jacobskerk Markt 2\,  7101 DB Winterswijk
SUMMARY:Expositie Bram Obbink ‘Schilderkunst Humor’
DESCRIPTION: Bram Obbink is aanwezig met ‘Schilderkunst Humor’. De onderwerpen die hem artistiek bezighouden zijn kenmerkend door hun niet altijd heldere verhaal. Maar hij probeert ze door kleurgebruik\,  ritme\,  ‘ouderdom’\,  weidsheid en het culturele aspect boeiend te maken. Te zien van 12 augustus t/m 9 september.
END:VEVENT
END:VCALENDAR