BEGIN:VCALENDAR
VERSION:2.0
PRODID:-//eventon.com NONSGML v1.0//EN
BEGIN:VEVENT
UID:69e500184c4a8
DTSTAMP:20260419T181728
DTSTART:20220504T110000Z
DTEND:20220519T140000Z
LOCATION:Jacobskerk Markt 2\,  7101 DB Winterswijk
SUMMARY:Expositie 'Samenspel' - Catharina de Fauw
DESCRIPTION: Expositie door Catharina de Fauw met de toepasselijke naam ‘Samenspel’. Zij heeft het proces van het maken van een cello door Cor Graauw gevolgd door het oog van de camera. Van een blok hout tot aan een prachtige cello. Cor is in 1983 begonnen met de bouw van strijkinstrumenten\,  met[..]
END:VEVENT
END:VCALENDAR