BEGIN:VCALENDAR
VERSION:2.0
PRODID:-//eventon.com NONSGML v1.0//EN
BEGIN:VEVENT
UID:69e4ebc6e23ba
DTSTAMP:20260419T165046
DTSTART:20220520T120000Z
DTEND:20220617T120000Z
LOCATION:Jacobskerk Markt 2\,  7101 DB Winterswijk
SUMMARY:Expositie Jackie Howard ‘Onder de vijgenboom’
DESCRIPTION: Expositie van Jackie Howard ‘Onder de vijgenboom’. Het werk van haar kenmerkt zich door gelaagdheid en bloeiende kleuren. Ze werkt veel met combinaties van textiel en hightech materialen als polyestervlies en synthetisch papier. Zij woont en werkt in haar atelier in Putten. &nbsp;
END:VEVENT
END:VCALENDAR